Package: mastR Version: 1.6.0 Command: /home/biocbuild/bbs-3.20-bioc/R/bin/R CMD build --keep-empty-dirs --no-resave-data --md5 mastR StartedAt: 2025-02-10 17:56:14 -0500 (Mon, 10 Feb 2025) EndedAt: 2025-02-10 17:58:29 -0500 (Mon, 10 Feb 2025) EllapsedTime: 135.1 seconds RetCode: 0 Status: OK PackageFile: mastR_1.6.0.tar.gz PackageFileSize: 3.156 MiB