Package: mastR Version: 1.6.0 Command: rm -rf mastR.buildbin-libdir && mkdir mastR.buildbin-libdir && F:\biocbuild\bbs-3.20-bioc\R\bin\R.exe CMD INSTALL --build --library=mastR.buildbin-libdir mastR_1.6.0.tar.gz StartedAt: 2025-02-04 08:51:08 -0500 (Tue, 04 Feb 2025) EndedAt: 2025-02-04 08:52:15 -0500 (Tue, 04 Feb 2025) EllapsedTime: 66.9 seconds RetCode: 0 Status: OK PackageFile: mastR_1.6.0.zip PackageFileSize: 2.023 MiB