Package: matchBox Version: 1.48.0 Command: /Library/Frameworks/R.framework/Resources/bin/R CMD check --install=check:matchBox.install-out.txt --library=/Library/Frameworks/R.framework/Resources/library --no-vignettes --timings matchBox_1.48.0.tar.gz StartedAt: 2025-02-05 00:39:55 -0500 (Wed, 05 Feb 2025) EndedAt: 2025-02-05 00:40:15 -0500 (Wed, 05 Feb 2025) EllapsedTime: 20.2 seconds RetCode: 0 Status: OK CheckDir: matchBox.Rcheck Warnings: 0