Package: matchBox Version: 1.48.0 Command: /home/biocbuild/bbs-3.20-bioc/R/bin/R CMD build --keep-empty-dirs --no-resave-data --md5 matchBox StartedAt: 2025-02-03 18:03:59 -0500 (Mon, 03 Feb 2025) EndedAt: 2025-02-03 18:04:06 -0500 (Mon, 03 Feb 2025) EllapsedTime: 7.0 seconds RetCode: 0 Status: OK PackageFile: matchBox_1.48.0.tar.gz PackageFileSize: 606 KiB