Package: matchBox Version: 1.48.0 Command: /home/biocbuild/R/R/bin/R CMD build --keep-empty-dirs --no-resave-data matchBox StartedAt: 2025-02-04 00:40:40 -0000 (Tue, 04 Feb 2025) EndedAt: 2025-02-04 00:40:47 -0000 (Tue, 04 Feb 2025) EllapsedTime: 7.0 seconds RetCode: 0 Status: OK PackageFile: matchBox_1.48.0.tar.gz PackageFileSize: 600.6 KiB