Package: matchBox Version: 1.48.0 Command: /home/biocbuild/R/R/bin/R CMD check --install=check:matchBox.install-out.txt --library=/home/biocbuild/R/R/site-library --no-vignettes --timings matchBox_1.48.0.tar.gz StartedAt: 2025-02-04 08:27:16 -0000 (Tue, 04 Feb 2025) EndedAt: 2025-02-04 08:27:32 -0000 (Tue, 04 Feb 2025) EllapsedTime: 16.0 seconds RetCode: 0 Status: OK CheckDir: matchBox.Rcheck Warnings: 0