Package: mbQTL Version: 1.6.0 Command: /Library/Frameworks/R.framework/Resources/bin/R CMD INSTALL mbQTL StartedAt: 2025-02-10 17:47:16 -0500 (Mon, 10 Feb 2025) EndedAt: 2025-02-10 17:47:27 -0500 (Mon, 10 Feb 2025) EllapsedTime: 11.5 seconds RetCode: 0 Status: OK