Package: mbQTL Version: 1.6.0 Command: /Library/Frameworks/R.framework/Resources/bin/R CMD INSTALL mbQTL StartedAt: 2025-02-03 16:32:50 -0500 (Mon, 03 Feb 2025) EndedAt: 2025-02-03 16:33:12 -0500 (Mon, 03 Feb 2025) EllapsedTime: 21.6 seconds RetCode: 0 Status: OK