Package: mbQTL Version: 1.6.0 Command: /home/biocbuild/bbs-3.20-bioc/R/bin/R CMD check --install=check:mbQTL.install-out.txt --library=/home/biocbuild/bbs-3.20-bioc/R/site-library --timings mbQTL_1.6.0.tar.gz StartedAt: 2025-02-10 23:39:53 -0500 (Mon, 10 Feb 2025) EndedAt: 2025-02-10 23:42:04 -0500 (Mon, 10 Feb 2025) EllapsedTime: 131.1 seconds RetCode: 0 Status: OK CheckDir: mbQTL.Rcheck Warnings: 0