Package: mbQTL Version: 1.6.0 Command: /home/biocbuild/bbs-3.20-bioc/R/bin/R CMD INSTALL mbQTL StartedAt: 2025-02-03 15:59:16 -0500 (Mon, 03 Feb 2025) EndedAt: 2025-02-03 15:59:26 -0500 (Mon, 03 Feb 2025) EllapsedTime: 10.2 seconds RetCode: 0 Status: OK