Package: mbQTL Version: 1.6.0 Command: /home/biocbuild/R/R/bin/R CMD build --keep-empty-dirs --no-resave-data mbQTL StartedAt: 2025-01-31 00:41:21 -0000 (Fri, 31 Jan 2025) EndedAt: 2025-01-31 00:42:57 -0000 (Fri, 31 Jan 2025) EllapsedTime: 96.0 seconds RetCode: 0 Status: OK PackageFile: mbQTL_1.6.0.tar.gz PackageFileSize: 926.5 KiB