Package: mbQTL Version: 1.6.0 Command: /home/biocbuild/R/R/bin/R CMD INSTALL mbQTL StartedAt: 2025-01-30 20:58:16 -0000 (Thu, 30 Jan 2025) EndedAt: 2025-01-30 20:58:28 -0000 (Thu, 30 Jan 2025) EllapsedTime: 12.2 seconds RetCode: 0 Status: OK