Package: mbkmeans Version: 1.22.0 Command: /Library/Frameworks/R.framework/Resources/bin/R CMD build --keep-empty-dirs --no-resave-data mbkmeans StartedAt: 2025-02-03 20:04:11 -0500 (Mon, 03 Feb 2025) EndedAt: 2025-02-03 20:07:12 -0500 (Mon, 03 Feb 2025) EllapsedTime: 181.1 seconds RetCode: 0 Status: OK PackageFile: mbkmeans_1.22.0.tar.gz PackageFileSize: 267.3 KiB