Package: mbkmeans Version: 1.22.0 Command: /home/biocbuild/bbs-3.20-bioc/R/bin/R CMD INSTALL mbkmeans StartedAt: 2025-02-03 15:37:00 -0500 (Mon, 03 Feb 2025) EndedAt: 2025-02-03 15:37:49 -0500 (Mon, 03 Feb 2025) EllapsedTime: 49.8 seconds RetCode: 0 Status: OK