Package: mbkmeans Version: 1.22.0 Command: rm -rf mbkmeans.buildbin-libdir && mkdir mbkmeans.buildbin-libdir && F:\biocbuild\bbs-3.20-bioc\R\bin\R.exe CMD INSTALL --build --library=mbkmeans.buildbin-libdir mbkmeans_1.22.0.tar.gz StartedAt: 2025-02-04 08:51:35 -0500 (Tue, 04 Feb 2025) EndedAt: 2025-02-04 08:52:29 -0500 (Tue, 04 Feb 2025) EllapsedTime: 53.5 seconds RetCode: 0 Status: OK PackageFile: mbkmeans_1.22.0.zip PackageFileSize: 706.3 KiB