Package: mbkmeans Version: 1.22.0 Command: F:\biocbuild\bbs-3.20-bioc\R\bin\R.exe CMD INSTALL mbkmeans StartedAt: 2025-02-03 16:47:07 -0500 (Mon, 03 Feb 2025) EndedAt: 2025-02-03 16:48:24 -0500 (Mon, 03 Feb 2025) EllapsedTime: 77.1 seconds RetCode: 0 Status: OK