Package: mdp Version: 1.26.0 Command: /Library/Frameworks/R.framework/Resources/bin/R CMD INSTALL mdp StartedAt: 2024-11-08 15:18:35 -0500 (Fri, 08 Nov 2024) EndedAt: 2024-11-08 15:18:37 -0500 (Fri, 08 Nov 2024) EllapsedTime: 2.2 seconds RetCode: 0 Status: OK