Package: mdp Version: 1.26.0 Command: rm -rf mdp.buildbin-libdir && mkdir mdp.buildbin-libdir && F:\biocbuild\bbs-3.20-bioc\R\bin\R.exe CMD INSTALL --build --library=mdp.buildbin-libdir mdp_1.26.0.tar.gz StartedAt: 2025-02-04 08:51:51 -0500 (Tue, 04 Feb 2025) EndedAt: 2025-02-04 08:52:02 -0500 (Tue, 04 Feb 2025) EllapsedTime: 11.1 seconds RetCode: 0 Status: OK PackageFile: mdp_1.26.0.zip PackageFileSize: 4.137 MiB