Package: mdqc Version: 1.68.0 Command: rm -rf mdqc.buildbin-libdir && mkdir mdqc.buildbin-libdir && /Users/biocbuild/BBS/utils/build-universal.sh mdqc_1.68.0.tar.gz /Library/Frameworks/R.framework/Resources/bin/R mdqc.buildbin-libdir StartedAt: 2025-02-05 16:31:36 -0500 (Wed, 05 Feb 2025) EndedAt: 2025-02-05 16:31:39 -0500 (Wed, 05 Feb 2025) EllapsedTime: 3.4 seconds RetCode: 0 Status: OK PackageFile: mdqc_1.68.0.tgz PackageFileSize: 296.1 KiB