Package: mdqc Version: 1.68.0 Command: /Library/Frameworks/R.framework/Resources/bin/R CMD build --keep-empty-dirs --no-resave-data mdqc StartedAt: 2025-02-03 20:05:21 -0500 (Mon, 03 Feb 2025) EndedAt: 2025-02-03 20:05:41 -0500 (Mon, 03 Feb 2025) EllapsedTime: 19.9 seconds RetCode: 0 Status: OK PackageFile: mdqc_1.68.0.tar.gz PackageFileSize: 258.4 KiB