Package: mdqc Version: 1.68.0 Command: /Library/Frameworks/R.framework/Resources/bin/R CMD INSTALL mdqc StartedAt: 2025-02-03 15:12:46 -0500 (Mon, 03 Feb 2025) EndedAt: 2025-02-03 15:12:58 -0500 (Mon, 03 Feb 2025) EllapsedTime: 12.4 seconds RetCode: 0 Status: OK