Package: mdqc Version: 1.68.0 Command: /home/biocbuild/R/R/bin/R CMD build --keep-empty-dirs --no-resave-data mdqc StartedAt: 2025-02-04 00:44:07 -0000 (Tue, 04 Feb 2025) EndedAt: 2025-02-04 00:44:14 -0000 (Tue, 04 Feb 2025) EllapsedTime: 7.0 seconds RetCode: 0 Status: OK PackageFile: mdqc_1.68.0.tar.gz PackageFileSize: 250.4 KiB