Package: mdqc Version: 1.68.0 Command: /home/biocbuild/R/R/bin/R CMD INSTALL mdqc StartedAt: 2025-02-03 20:21:43 -0000 (Mon, 03 Feb 2025) EndedAt: 2025-02-03 20:22:03 -0000 (Mon, 03 Feb 2025) EllapsedTime: 19.7 seconds RetCode: 0 Status: OK