Package: memes Version: 1.14.0 Command: /Library/Frameworks/R.framework/Resources/bin/R CMD build --keep-empty-dirs --no-resave-data memes StartedAt: 2025-02-04 02:45:39 -0500 (Tue, 04 Feb 2025) EndedAt: 2025-02-04 02:46:58 -0500 (Tue, 04 Feb 2025) EllapsedTime: 79.5 seconds RetCode: 0 Status: OK PackageFile: memes_1.14.0.tar.gz PackageFileSize: 1.118 MiB