Package: memes Version: 1.14.0 Command: rm -rf memes.buildbin-libdir && mkdir memes.buildbin-libdir && /Users/biocbuild/BBS/utils/build-universal.sh memes_1.14.0.tar.gz /Library/Frameworks/R.framework/Resources/bin/R memes.buildbin-libdir StartedAt: 2025-02-04 13:22:04 -0500 (Tue, 04 Feb 2025) EndedAt: 2025-02-04 13:22:50 -0500 (Tue, 04 Feb 2025) EllapsedTime: 45.9 seconds RetCode: 0 Status: OK PackageFile: memes_1.14.0.tgz PackageFileSize: 1.213 MiB