Package: memes Version: 1.14.0 Command: /home/biocbuild/bbs-3.20-bioc/R/bin/R CMD build --keep-empty-dirs --no-resave-data --md5 memes StartedAt: 2025-02-10 17:58:42 -0500 (Mon, 10 Feb 2025) EndedAt: 2025-02-10 17:59:33 -0500 (Mon, 10 Feb 2025) EllapsedTime: 51.1 seconds RetCode: 0 Status: OK PackageFile: memes_1.14.0.tar.gz PackageFileSize: 1.047 MiB