Package: memes Version: 1.14.0 Command: /home/biocbuild/R/R/bin/R CMD INSTALL memes StartedAt: 2025-02-03 21:02:11 -0000 (Mon, 03 Feb 2025) EndedAt: 2025-02-03 21:02:28 -0000 (Mon, 03 Feb 2025) EllapsedTime: 16.9 seconds RetCode: 0 Status: OK