Package: meshes Version: 1.32.0 Command: /Library/Frameworks/R.framework/Resources/bin/R CMD build --keep-empty-dirs --no-resave-data meshes StartedAt: 2025-01-31 02:43:08 -0500 (Fri, 31 Jan 2025) EndedAt: 2025-01-31 02:43:41 -0500 (Fri, 31 Jan 2025) EllapsedTime: 32.9 seconds RetCode: 0 Status: OK PackageFile: meshes_1.32.0.tar.gz PackageFileSize: 922.1 KiB