Package: meshes Version: 1.32.0 Command: /Library/Frameworks/R.framework/Resources/bin/R CMD check --install=check:meshes.install-out.txt --library=/Library/Frameworks/R.framework/Resources/library --no-vignettes --timings meshes_1.32.0.tar.gz StartedAt: 2025-02-01 00:18:31 -0500 (Sat, 01 Feb 2025) EndedAt: 2025-02-01 00:21:39 -0500 (Sat, 01 Feb 2025) EllapsedTime: 187.7 seconds RetCode: 0 Status: OK CheckDir: meshes.Rcheck Warnings: 0