Package: meshes Version: 1.32.0 Command: /Library/Frameworks/R.framework/Resources/bin/R CMD INSTALL meshes StartedAt: 2025-02-03 16:19:06 -0500 (Mon, 03 Feb 2025) EndedAt: 2025-02-03 16:20:00 -0500 (Mon, 03 Feb 2025) EllapsedTime: 54.3 seconds RetCode: 0 Status: OK