Package: meshes Version: 1.32.0 Command: /home/biocbuild/bbs-3.20-bioc/R/bin/R CMD INSTALL meshes StartedAt: 2025-02-10 15:48:31 -0500 (Mon, 10 Feb 2025) EndedAt: 2025-02-10 15:48:54 -0500 (Mon, 10 Feb 2025) EllapsedTime: 23.2 seconds RetCode: 0 Status: OK