Package: metaCCA Version: 1.34.0 Command: /Library/Frameworks/R.framework/Resources/bin/R CMD build --keep-empty-dirs --no-resave-data metaCCA StartedAt: 2025-02-03 20:08:51 -0500 (Mon, 03 Feb 2025) EndedAt: 2025-02-03 20:09:15 -0500 (Mon, 03 Feb 2025) EllapsedTime: 24.1 seconds RetCode: 0 Status: OK PackageFile: metaCCA_1.34.0.tar.gz PackageFileSize: 924.1 KiB