Package: metaCCA Version: 1.34.0 Command: /home/biocbuild/bbs-3.20-bioc/R/bin/R CMD INSTALL metaCCA StartedAt: 2025-01-30 15:41:18 -0500 (Thu, 30 Jan 2025) EndedAt: 2025-01-30 15:41:20 -0500 (Thu, 30 Jan 2025) EllapsedTime: 2.0 seconds RetCode: 0 Status: OK