Package: metaCCA Version: 1.34.0 Command: rm -rf metaCCA.buildbin-libdir && mkdir metaCCA.buildbin-libdir && F:\biocbuild\bbs-3.20-bioc\R\bin\R.exe CMD INSTALL --build --library=metaCCA.buildbin-libdir metaCCA_1.34.0.tar.gz StartedAt: 2025-01-31 09:00:41 -0500 (Fri, 31 Jan 2025) EndedAt: 2025-01-31 09:00:52 -0500 (Fri, 31 Jan 2025) EllapsedTime: 11.4 seconds RetCode: 0 Status: OK PackageFile: metaCCA_1.34.0.zip PackageFileSize: 976.9 KiB