Package: metaCCA Version: 1.34.0 Command: chmod a+r metaCCA -R && F:\biocbuild\bbs-3.20-bioc\R\bin\R.exe CMD build --keep-empty-dirs --no-resave-data metaCCA StartedAt: 2025-02-03 20:13:48 -0500 (Mon, 03 Feb 2025) EndedAt: 2025-02-03 20:14:06 -0500 (Mon, 03 Feb 2025) EllapsedTime: 17.7 seconds RetCode: 0 Status: OK PackageFile: metaCCA_1.34.0.tar.gz PackageFileSize: 926.6 KiB