Package: metaCCA Version: 1.34.0 Command: /home/biocbuild/R/R/bin/R CMD INSTALL metaCCA StartedAt: 2025-01-30 20:48:22 -0000 (Thu, 30 Jan 2025) EndedAt: 2025-01-30 20:48:25 -0000 (Thu, 30 Jan 2025) EllapsedTime: 2.8 seconds RetCode: 0 Status: OK