Package: metaMS Version: 1.42.0 Command: /Library/Frameworks/R.framework/Resources/bin/R CMD build --keep-empty-dirs --no-resave-data metaMS StartedAt: 2025-02-04 02:52:36 -0500 (Tue, 04 Feb 2025) EndedAt: 2025-02-04 02:54:09 -0500 (Tue, 04 Feb 2025) EllapsedTime: 93.2 seconds RetCode: 0 Status: OK PackageFile: metaMS_1.42.0.tar.gz PackageFileSize: 3.818 MiB