Package: metaMS Version: 1.42.0 Command: /Library/Frameworks/R.framework/Resources/bin/R CMD check --install=check:metaMS.install-out.txt --library=/Library/Frameworks/R.framework/Resources/library --no-vignettes --timings metaMS_1.42.0.tar.gz StartedAt: 2025-02-05 01:08:50 -0500 (Wed, 05 Feb 2025) EndedAt: 2025-02-05 01:15:46 -0500 (Wed, 05 Feb 2025) EllapsedTime: 415.9 seconds RetCode: 0 Status: OK CheckDir: metaMS.Rcheck Warnings: 0