Package: metaMS Version: 1.42.0 Command: /Library/Frameworks/R.framework/Resources/bin/R CMD INSTALL metaMS StartedAt: 2025-02-03 16:58:28 -0500 (Mon, 03 Feb 2025) EndedAt: 2025-02-03 16:59:22 -0500 (Mon, 03 Feb 2025) EllapsedTime: 53.8 seconds RetCode: 0 Status: OK