Package: metaMS Version: 1.42.0 Command: /Library/Frameworks/R.framework/Resources/bin/R CMD check --install=check:metaMS.install-out.txt --library=/Library/Frameworks/R.framework/Resources/library --no-vignettes --timings metaMS_1.42.0.tar.gz StartedAt: 2025-02-04 06:04:37 -0500 (Tue, 04 Feb 2025) EndedAt: 2025-02-04 06:16:35 -0500 (Tue, 04 Feb 2025) EllapsedTime: 718.0 seconds RetCode: 0 Status: OK CheckDir: metaMS.Rcheck Warnings: 0