Package: metaMS Version: 1.42.0 Command: /home/biocbuild/R/R/bin/R CMD build --keep-empty-dirs --no-resave-data metaMS StartedAt: 2025-02-04 00:47:35 -0000 (Tue, 04 Feb 2025) EndedAt: 2025-02-04 00:48:55 -0000 (Tue, 04 Feb 2025) EllapsedTime: 80.0 seconds RetCode: 0 Status: OK PackageFile: metaMS_1.42.0.tar.gz PackageFileSize: 3.801 MiB