Package: metaMS Version: 1.42.0 Command: /home/biocbuild/R/R/bin/R CMD INSTALL metaMS StartedAt: 2025-02-03 21:04:01 -0000 (Mon, 03 Feb 2025) EndedAt: 2025-02-03 21:04:57 -0000 (Mon, 03 Feb 2025) EllapsedTime: 55.9 seconds RetCode: 0 Status: OK