Package: metaSeq Version: 1.46.0 Command: /Library/Frameworks/R.framework/Resources/bin/R CMD build --keep-empty-dirs --no-resave-data metaSeq StartedAt: 2025-02-04 02:53:47 -0500 (Tue, 04 Feb 2025) EndedAt: 2025-02-04 02:54:08 -0500 (Tue, 04 Feb 2025) EllapsedTime: 20.4 seconds RetCode: 0 Status: OK PackageFile: metaSeq_1.46.0.tar.gz PackageFileSize: 6.198 MiB