Package: metaSeq Version: 1.46.0 Command: /Library/Frameworks/R.framework/Resources/bin/R CMD check --install=check:metaSeq.install-out.txt --library=/Library/Frameworks/R.framework/Resources/library --no-vignettes --timings metaSeq_1.46.0.tar.gz StartedAt: 2025-02-05 01:11:34 -0500 (Wed, 05 Feb 2025) EndedAt: 2025-02-05 01:12:47 -0500 (Wed, 05 Feb 2025) EllapsedTime: 73.0 seconds RetCode: 0 Status: OK CheckDir: metaSeq.Rcheck Warnings: 0