Package: metaSeq Version: 1.46.0 Command: chmod a+r metaSeq -R && F:\biocbuild\bbs-3.20-bioc\R\bin\R.exe CMD build --keep-empty-dirs --no-resave-data metaSeq StartedAt: 2025-02-03 20:14:49 -0500 (Mon, 03 Feb 2025) EndedAt: 2025-02-03 20:15:12 -0500 (Mon, 03 Feb 2025) EllapsedTime: 22.9 seconds RetCode: 0 Status: OK PackageFile: metaSeq_1.46.0.tar.gz PackageFileSize: 6.084 MiB