Package: metaSeq Version: 1.46.0 Command: F:\biocbuild\bbs-3.20-bioc\R\bin\R.exe CMD INSTALL metaSeq StartedAt: 2025-02-03 15:37:26 -0500 (Mon, 03 Feb 2025) EndedAt: 2025-02-03 15:37:47 -0500 (Mon, 03 Feb 2025) EllapsedTime: 21.4 seconds RetCode: 0 Status: OK