Package: metabCombiner Version: 1.16.0 Command: rm -rf metabCombiner.buildbin-libdir && mkdir metabCombiner.buildbin-libdir && /Users/biocbuild/BBS/utils/build-universal.sh metabCombiner_1.16.0.tar.gz /Library/Frameworks/R.framework/Resources/bin/R metabCombiner.buildbin-libdir StartedAt: 2025-02-04 13:22:29 -0500 (Tue, 04 Feb 2025) EndedAt: 2025-02-04 13:23:24 -0500 (Tue, 04 Feb 2025) EllapsedTime: 54.8 seconds RetCode: 0 Status: OK PackageFile: metabCombiner_1.16.0.tgz PackageFileSize: 2.936 MiB