Package: metabCombiner Version: 1.16.0 Command: /Library/Frameworks/R.framework/Resources/bin/R CMD build --keep-empty-dirs --no-resave-data metabCombiner StartedAt: 2025-02-03 20:07:51 -0500 (Mon, 03 Feb 2025) EndedAt: 2025-02-03 20:09:06 -0500 (Mon, 03 Feb 2025) EllapsedTime: 75.4 seconds RetCode: 0 Status: OK PackageFile: metabCombiner_1.16.0.tar.gz PackageFileSize: 2.552 MiB