Package: metabCombiner Version: 1.16.0 Command: /home/biocbuild/bbs-3.20-bioc/R/bin/R CMD build --keep-empty-dirs --no-resave-data --md5 metabCombiner StartedAt: 2025-02-03 18:06:47 -0500 (Mon, 03 Feb 2025) EndedAt: 2025-02-03 18:07:16 -0500 (Mon, 03 Feb 2025) EllapsedTime: 29.0 seconds RetCode: 0 Status: OK PackageFile: metabCombiner_1.16.0.tar.gz PackageFileSize: 2.586 MiB