Package: metabCombiner Version: 1.16.0 Command: /home/biocbuild/bbs-3.20-bioc/R/bin/R CMD INSTALL metabCombiner StartedAt: 2025-02-10 15:53:37 -0500 (Mon, 10 Feb 2025) EndedAt: 2025-02-10 15:53:53 -0500 (Mon, 10 Feb 2025) EllapsedTime: 15.3 seconds RetCode: 0 Status: OK